0.0804346665274927
-0.0674926990170866
-0.0674926990170866
-0.0804346665274927
611735.098412814
4719572.51397302
