0.0804346665274927
-0.0674926990170866
-0.0674926990170866
-0.0804346665274927
612092.201198595
4719229.80346515
