0.0804346665274927
-0.0674926990170866
-0.0674926990170866
-0.0804346665274927
614235.390028879
4717169.97082775
