0.0430054823251721
-0.0301127629084299
-0.0301127629084299
-0.0430054823251721
605809.831398376
4746460.43524322
