0.0430054823251721
-0.0301127629084299
-0.0301127629084299
-0.0430054823251721
606780.820640327
4745848.4919339
