-0.045466333698683
0.02625
0.02625
0.045466333698683
605941.347822103
4744892.00893335
