-0.045466333698683
0.02625
0.02625
0.045466333698683
606133.976278448
4744761.21226067
