-0.0402173332637463
0.0337463495085433
0.0337463495085433
0.0402173332637463
607844.244611049
4744444.26128645
