-0.0402173332637463
0.0337463495085433
0.0337463495085433
0.0402173332637463
608449.529143427
4743900.31655883
