-0.0402173332637463
0.0337463495085433
0.0337463495085433
0.0402173332637463
609327.717628533
4743114.29894045
