-0.0402173332637463
0.0337463495085433
0.0337463495085433
0.0402173332637463
606991.043099517
4744682.80297676
