-0.0402173332637463
0.0337463495085433
0.0337463495085433
0.0402173332637463
608152.759451748
4743667.69296017
