-0.0402173332637463
0.0337463495085433
0.0337463495085433
0.0402173332637463
608354.846127761
4743491.82466736
