-0.0402173332637463
0.0337463495085433
0.0337463495085433
0.0402173332637463
608555.632462508
4743320.55099677
