-0.0371231060122937
0.0371231060122937
0.0371231060122937
0.0371231060122937
608022.528994302
4742942.95113149
