-0.0525
6.42918335756748E-18
6.42918335756748E-18
0.0525
609179.83875
4743281.65
