-0.0525
6.42918335756748E-18
6.42918335756748E-18
0.0525
609875.63675
4743380.4485
