-0.0525
6.42918335756748E-18
6.42918335756748E-18
0.0525
611401.52825
4743432.64
