-0.0525
6.42918335756748E-18
6.42918335756748E-18
0.0525
612364.901
4743403.21975
