-0.0525
6.42918335756748E-18
6.42918335756748E-18
0.0525
612556.14575
4743396.3675
