-0.0525
6.42918335756748E-18
6.42918335756748E-18
0.0525
607130.64475
4742792.99025
