-0.0525
6.42918335756748E-18
6.42918335756748E-18
0.0525
607879.00125
4742787.2825
