-0.0525
6.42918335756748E-18
6.42918335756748E-18
0.0525
608813.138
4742786.4815
