-0.0525
6.42918335756748E-18
6.42918335756748E-18
0.0525
611472.65275
4742901.96225
