-0.0525
6.42918335756748E-18
6.42918335756748E-18
0.0525
612437.48375
4742908.5225
