-0.0525
6.42918335756748E-18
6.42918335756748E-18
0.0525
612879.9825
4742914.527
