-0.0525
6.42918335756748E-18
6.42918335756748E-18
0.0525
613548.8055
4742913.196
