-0.0525
6.42918335756748E-18
6.42918335756748E-18
0.0525
615013.5155
4742871.53275
