-0.0525
6.42918335756748E-18
6.42918335756748E-18
0.0525
615409.774
4742849.7145
