-0.0525
6.42918335756748E-18
6.42918335756748E-18
0.0525
615968.9185
4742821.5325
