0.0525
0
0
-0.0525
606241.79725
4743214.86075
