0.0525
0
0
-0.0525
608645.22225
4743227.87325
