0.0525
0
0
-0.0525
610794.92625
4743303.89775
