0.0525
0
0
-0.0525
612566.946
4743299.2575
