0.0525
0
0
-0.0525
614746.8265
4743311.54625
