0.0525
0
0
-0.0525
615480.9045
4743299.36225
