-0.0525
6.42918335756748E-18
6.42918335756748E-18
0.0525
605654.40125
4741811.44025
