-0.0525
6.42918335756748E-18
6.42918335756748E-18
0.0525
606268.753
4741789.511
