-0.0525
6.42918335756748E-18
6.42918335756748E-18
0.0525
607818.67425
4741896.079
