-0.0525
6.42918335756748E-18
6.42918335756748E-18
0.0525
608759.5765
4741920.77225
