-0.0525
6.42918335756748E-18
6.42918335756748E-18
0.0525
609508.746
4741938.7225
