-0.0525
6.42918335756748E-18
6.42918335756748E-18
0.0525
612469.0625
4741956.95475
