-0.0525
6.42918335756748E-18
6.42918335756748E-18
0.0525
612683.16625
4741952.738
