-0.0525
6.42918335756748E-18
6.42918335756748E-18
0.0525
613956.799
4741924.23175
