-0.0525
6.42918335756748E-18
6.42918335756748E-18
0.0525
614191.75875
4741927.745
