-0.0525
6.42918335756748E-18
6.42918335756748E-18
0.0525
615618.07825
4741923.022
