0.0525
0
0
-0.0525
605054.61975
4742236.41725
