0.0525
0
0
-0.0525
605259.09325
4742243.32175
