0.0525
0
0
-0.0525
606175.93675
4742252.15575
