0.0525
0
0
-0.0525
609657.70725
4742405.5085
